BEGIN:VCALENDAR
VERSION:2.0
PRODID:-//Les Vert·e·s Riviera - Pays-d&#039;Enhaut - ECPv6.15.15//NONSGML v1.0//EN
CALSCALE:GREGORIAN
METHOD:PUBLISH
X-WR-CALNAME:Les Vert·e·s Riviera - Pays-d&#039;Enhaut
X-ORIGINAL-URL:https://vert-e-s-vd.ch/riviera-paysdenhaut
X-WR-CALDESC:Évènements pour Les Vert·e·s Riviera - Pays-d&#039;Enhaut
REFRESH-INTERVAL;VALUE=DURATION:PT1H
X-Robots-Tag:noindex
X-PUBLISHED-TTL:PT1H
BEGIN:VTIMEZONE
TZID:Europe/Zurich
BEGIN:DAYLIGHT
TZOFFSETFROM:+0100
TZOFFSETTO:+0200
TZNAME:CEST
DTSTART:20250330T010000
END:DAYLIGHT
BEGIN:STANDARD
TZOFFSETFROM:+0200
TZOFFSETTO:+0100
TZNAME:CET
DTSTART:20251026T010000
END:STANDARD
BEGIN:DAYLIGHT
TZOFFSETFROM:+0100
TZOFFSETTO:+0200
TZNAME:CEST
DTSTART:20260329T010000
END:DAYLIGHT
BEGIN:STANDARD
TZOFFSETFROM:+0200
TZOFFSETTO:+0100
TZNAME:CET
DTSTART:20261025T010000
END:STANDARD
BEGIN:DAYLIGHT
TZOFFSETFROM:+0100
TZOFFSETTO:+0200
TZNAME:CEST
DTSTART:20270328T010000
END:DAYLIGHT
BEGIN:STANDARD
TZOFFSETFROM:+0200
TZOFFSETTO:+0100
TZNAME:CET
DTSTART:20271031T010000
END:STANDARD
END:VTIMEZONE
BEGIN:VEVENT
DTSTART;TZID=Europe/Zurich:20260204T193000
DTEND;TZID=Europe/Zurich:20260204T220000
DTSTAMP:20260423T163105
CREATED:20260116T143201Z
LAST-MODIFIED:20260122T141401Z
UID:75175-1770233400-1770242400@vert-e-s-vd.ch
SUMMARY:Conférence-débat: pouvoir et économie locale
DESCRIPTION:
URL:https://vert-e-s-vd.ch/riviera-paysdenhaut/event/conference-debat-pouvoir-et-economie-locale
LOCATION:Grande Salle de l’Ancien-Stand\, Chemin de l’Ancien-Stand 10\, Blonay\, 1807
CATEGORIES:Blonay-St Légier,Politique
END:VEVENT
END:VCALENDAR