BEGIN:VCALENDAR
VERSION:2.0
PRODID:-//Les VERT.E.S  vaudois.es - ECPv6.15.15//NONSGML v1.0//EN
CALSCALE:GREGORIAN
METHOD:PUBLISH
X-WR-CALNAME:Les VERT.E.S  vaudois.es
X-ORIGINAL-URL:https://vert-e-s-vd.ch
X-WR-CALDESC:Évènements pour Les VERT.E.S  vaudois.es
REFRESH-INTERVAL;VALUE=DURATION:PT1H
X-Robots-Tag:noindex
X-PUBLISHED-TTL:PT1H
BEGIN:VTIMEZONE
TZID:Europe/Zurich
BEGIN:DAYLIGHT
TZOFFSETFROM:+0100
TZOFFSETTO:+0200
TZNAME:CEST
DTSTART:20190331T010000
END:DAYLIGHT
BEGIN:STANDARD
TZOFFSETFROM:+0200
TZOFFSETTO:+0100
TZNAME:CET
DTSTART:20191027T010000
END:STANDARD
BEGIN:DAYLIGHT
TZOFFSETFROM:+0100
TZOFFSETTO:+0200
TZNAME:CEST
DTSTART:20200329T010000
END:DAYLIGHT
BEGIN:STANDARD
TZOFFSETFROM:+0200
TZOFFSETTO:+0100
TZNAME:CET
DTSTART:20201025T010000
END:STANDARD
BEGIN:DAYLIGHT
TZOFFSETFROM:+0100
TZOFFSETTO:+0200
TZNAME:CEST
DTSTART:20210328T010000
END:DAYLIGHT
BEGIN:STANDARD
TZOFFSETFROM:+0200
TZOFFSETTO:+0100
TZNAME:CET
DTSTART:20211031T010000
END:STANDARD
END:VTIMEZONE
BEGIN:VEVENT
DTSTART;TZID=Europe/Zurich:20201117T180000
DTEND;TZID=Europe/Zurich:20201117T210000
DTSTAMP:20260421T151230
CREATED:20200924T105410Z
LAST-MODIFIED:20220816T131833Z
UID:8967-1605636000-1605646800@vert-e-s-vd.ch
SUMMARY:Groupe CC Vert·e·s lausannois·es
DESCRIPTION:
URL:https://vert-e-s-vd.ch/event/groupe-cc-vert%c2%b7e%c2%b7s-lausannois%c2%b7es-copy
LOCATION:Secrétariat des Vert·e·s vaudois·es\, place de la Palud 7\, Lausanne\, 1003
CATEGORIES:Lausanne,Vaud
END:VEVENT
END:VCALENDAR